BEGIN:VCALENDAR
VERSION:2.0
PRODID:-//Drupal iCal API//EN
X-WR-CALNAME:Events items teaser
X-WR-TIMEZONE:America/Toronto
BEGIN:VTIMEZONE
TZID:America/Toronto
X-LIC-LOCATION:America/Toronto
BEGIN:DAYLIGHT
TZNAME:EDT
TZOFFSETFROM:-0500
TZOFFSETTO:-0400
DTSTART:20230312T070000
END:DAYLIGHT
BEGIN:STANDARD
TZNAME:EST
TZOFFSETFROM:-0400
TZOFFSETTO:-0500
DTSTART:20221106T060000
END:STANDARD
END:VTIMEZONE
BEGIN:VEVENT
UID:69ed90946b453
DTSTART;TZID=America/Toronto:20230417T130000
SEQUENCE:0
TRANSP:TRANSPARENT
DTEND;TZID=America/Toronto:20230417T130000
URL:https://uwaterloo.ca/chemistry/events/doctoral-thesis-defence-yutong-li
 u
SUMMARY:Doctoral Thesis Defence - Yutong Liu
CLASS:PUBLIC
DESCRIPTION:\"DEFECT INVESTIGATION ON HEMATITE PHOTOANODES\"\n\nSUPERVISOR:
   R Smith\nLOCATION:     C2-361
DTSTAMP:20260426T041204Z
END:VEVENT
END:VCALENDAR