BEGIN:VCALENDAR
VERSION:2.0
PRODID:-//Drupal iCal API//EN
X-WR-CALNAME:Events items teaser
X-WR-TIMEZONE:America/Toronto
BEGIN:VTIMEZONE
TZID:America/Toronto
X-LIC-LOCATION:America/Toronto
BEGIN:DAYLIGHT
TZNAME:EDT
TZOFFSETFROM:-0500
TZOFFSETTO:-0400
DTSTART:20230312T070000
END:DAYLIGHT
BEGIN:STANDARD
TZNAME:EST
TZOFFSETFROM:-0400
TZOFFSETTO:-0500
DTSTART:20221106T060000
END:STANDARD
END:VTIMEZONE
BEGIN:VEVENT
UID:69ed8c74739f2
DTSTART;TZID=America/Toronto:20230725T140000
SEQUENCE:0
TRANSP:TRANSPARENT
DTEND;TZID=America/Toronto:20230725T140000
URL:https://uwaterloo.ca/chemistry/events/doctoral-thesis-defence-volition
SUMMARY:Doctoral Thesis Defence - Volition La
CLASS:PUBLIC
DESCRIPTION:\"SELECTION AND CHARACTERIZATION OF AN APTAMER TO A THIAZOLE OR
 ANGE\nDERIVATIVE FOR USE IN A FLUORESCENCE-BASED BIOSENSOR\"\n\nSUPERVISOR
 :  T. DIECKMANN\n\nTUESDAY\, JULY 25\, 2023\n2:00 PM\n\nIN-PERSON C2-361
  
DTSTAMP:20260426T035428Z
END:VEVENT
END:VCALENDAR