BEGIN:VCALENDAR
VERSION:2.0
PRODID:-//Drupal iCal API//EN
X-WR-CALNAME:Events items teaser
X-WR-TIMEZONE:America/Toronto
BEGIN:VTIMEZONE
TZID:America/Toronto
X-LIC-LOCATION:America/Toronto
BEGIN:DAYLIGHT
TZNAME:EDT
TZOFFSETFROM:-0500
TZOFFSETTO:-0400
DTSTART:20230312T070000
END:DAYLIGHT
BEGIN:STANDARD
TZNAME:EST
TZOFFSETFROM:-0400
TZOFFSETTO:-0500
DTSTART:20221106T060000
END:STANDARD
END:VTIMEZONE
BEGIN:VEVENT
UID:69ebbe6077946
DTSTART;TZID=America/Toronto:20230818T103000
SEQUENCE:0
TRANSP:TRANSPARENT
DTEND;TZID=America/Toronto:20230818T123000
URL:https://uwaterloo.ca/chemistry/events/masters-thesis-defence-scott-lorn
SUMMARY:Master's Thesis Defence - Scott Zorn
CLASS:PUBLIC
DESCRIPTION:\"INVESTIGATION OF THE ELECTRONIC STRUCTURE AND MAGNETIC PROPER
 TIES OF\nCEO2-X\"\n\nSUPERVISOR: P. RADOVANOVIC\n\nFRIDAY\, AUGUST 18\, 20
 23\n\n10:30 AM\n\nREMOTE
DTSTAMP:20260424T190256Z
END:VEVENT
END:VCALENDAR