BEGIN:VCALENDAR
VERSION:2.0
PRODID:-//Drupal iCal API//EN
X-WR-CALNAME:Events items teaser
X-WR-TIMEZONE:America/Toronto
BEGIN:VTIMEZONE
TZID:America/Toronto
X-LIC-LOCATION:America/Toronto
BEGIN:DAYLIGHT
TZNAME:EDT
TZOFFSETFROM:-0500
TZOFFSETTO:-0400
DTSTART:20230312T070000
END:DAYLIGHT
BEGIN:STANDARD
TZNAME:EST
TZOFFSETFROM:-0400
TZOFFSETTO:-0500
DTSTART:20221106T060000
END:STANDARD
END:VTIMEZONE
BEGIN:VEVENT
UID:69ed5d1f85593
DTSTART;TZID=America/Toronto:20231030T140000
SEQUENCE:0
TRANSP:TRANSPARENT
DTEND;TZID=America/Toronto:20231030T160000
URL:https://uwaterloo.ca/chemistry/events/masters-thesis-defence-laiba-qade
 er
SUMMARY:Master's Thesis Defence - Laiba Qadeer
CLASS:PUBLIC
DESCRIPTION:HYDRIDE GENERATION AS A SAMPLE INTRODUCTION TECHNIQUE FOR DETEC
 TION OF\nARSENIC BY MICRO PLASMA\n\nSUPERVISOR: V. KARANASSIOS\n\nMONDAY O
 CTOBER 30\, 2023\n\n2:00 PM\n\nIN-PERSON: C2-278
DTSTAMP:20260426T003231Z
END:VEVENT
END:VCALENDAR