BEGIN:VCALENDAR
VERSION:2.0
PRODID:-//Drupal iCal API//EN
X-WR-CALNAME:Events items teaser
X-WR-TIMEZONE:America/Toronto
BEGIN:VTIMEZONE
TZID:America/Toronto
X-LIC-LOCATION:America/Toronto
BEGIN:DAYLIGHT
TZNAME:EDT
TZOFFSETFROM:-0500
TZOFFSETTO:-0400
DTSTART:20230312T070000
END:DAYLIGHT
BEGIN:STANDARD
TZNAME:EST
TZOFFSETFROM:-0400
TZOFFSETTO:-0500
DTSTART:20231105T060000
END:STANDARD
END:VTIMEZONE
BEGIN:VEVENT
UID:69ec2f9cb88b7
DTSTART;TZID=America/Toronto:20231222T133000
SEQUENCE:0
TRANSP:TRANSPARENT
DTEND;TZID=America/Toronto:20231222T153000
URL:https://uwaterloo.ca/chemistry/events/masters-thesis-defence-xinran-liu
SUMMARY:Master's Thesis Defence - Xinran Liu
CLASS:PUBLIC
DESCRIPTION:OXYGEN REDUCTION REACTION ON DOPED LANTHANUM CHROMATE PEROVSKIT
 ES\n\nSUPERVISOR: R. SMITH\n\nFRIDAY\, DECEMBER 22\, 2023\n\n1:30 PM\n\nIN
 -PERSON: C2-361
DTSTAMP:20260425T030604Z
END:VEVENT
END:VCALENDAR