BEGIN:VCALENDAR
VERSION:2.0
PRODID:-//Drupal iCal API//EN
X-WR-CALNAME:Events items teaser
X-WR-TIMEZONE:America/Toronto
BEGIN:VTIMEZONE
TZID:America/Toronto
X-LIC-LOCATION:America/Toronto
BEGIN:DAYLIGHT
TZNAME:EDT
TZOFFSETFROM:-0500
TZOFFSETTO:-0400
DTSTART:20230312T070000
END:DAYLIGHT
BEGIN:STANDARD
TZNAME:EST
TZOFFSETFROM:-0400
TZOFFSETTO:-0500
DTSTART:20231105T060000
END:STANDARD
END:VTIMEZONE
BEGIN:VEVENT
UID:69ecbb25e5a41
DTSTART;TZID=America/Toronto:20240110T130000
SEQUENCE:0
TRANSP:TRANSPARENT
DTEND;TZID=America/Toronto:20240110T143000
URL:https://uwaterloo.ca/chemistry/events/doctoral-thesis-defence-xiaoyi-gu
 an
SUMMARY:Doctoral Thesis Defence - Xiaoyi Guan
CLASS:PUBLIC
DESCRIPTION:SIZE-SPECIFIC ZRO2 AND HFXZR1-XO2 NANOCLUSTERS AND THEIR MAGNET
 IC AND\nNANODEVICE\nAPPLICATIONS\n\nSUPERVISOR: T. LEUNG\n\nWEDNESDAY\, JA
 NUARY 10\, 2024\n\n1:00 PM\n\nREMOTE - TEAMS
DTSTAMP:20260425T130125Z
END:VEVENT
END:VCALENDAR