BEGIN:VCALENDAR
VERSION:2.0
PRODID:-//Drupal iCal API//EN
X-WR-CALNAME:Events items teaser
X-WR-TIMEZONE:America/Toronto
BEGIN:VTIMEZONE
TZID:America/Toronto
X-LIC-LOCATION:America/Toronto
BEGIN:DAYLIGHT
TZNAME:EDT
TZOFFSETFROM:-0500
TZOFFSETTO:-0400
DTSTART:20230312T070000
END:DAYLIGHT
BEGIN:STANDARD
TZNAME:EST
TZOFFSETFROM:-0400
TZOFFSETTO:-0500
DTSTART:20231105T060000
END:STANDARD
END:VTIMEZONE
BEGIN:VEVENT
UID:69ec170fab151
DTSTART;TZID=America/Toronto:20240118T140000
SEQUENCE:0
TRANSP:TRANSPARENT
DTEND;TZID=America/Toronto:20240118T153000
URL:https://uwaterloo.ca/chemistry/events/doctoral-thesis-defence-wenyu-gao
SUMMARY:Doctoral Thesis Defence - Wenyu Gao
CLASS:PUBLIC
DESCRIPTION:LOW-DIMENSIONAL NANOSTRUCTURED CATALYSTS OF COPPER OXIDES AND N
 ICKEL\nOXIDES SUPPORTED ON GRAPHENE AND THEIR APPLICATIONS IN BIOSENSING A
 ND\nPHOTOELECTROCHEMICAL HYDROGEN EVOLUTION\n\nSUPERVISOR: T. LEUNG\n\nTHU
 RSDAY\, JANUARY 18\, 2024\n\n2:00 PM\n\nREMOTE -TEAMS
DTSTAMP:20260425T012119Z
END:VEVENT
END:VCALENDAR