BEGIN:VCALENDAR
VERSION:2.0
PRODID:-//Drupal iCal API//EN
X-WR-CALNAME:Events items teaser
X-WR-TIMEZONE:America/Toronto
BEGIN:VTIMEZONE
TZID:America/Toronto
X-LIC-LOCATION:America/Toronto
BEGIN:DAYLIGHT
TZNAME:EDT
TZOFFSETFROM:-0500
TZOFFSETTO:-0400
DTSTART:20230312T070000
END:DAYLIGHT
BEGIN:STANDARD
TZNAME:EST
TZOFFSETFROM:-0400
TZOFFSETTO:-0500
DTSTART:20231105T060000
END:STANDARD
END:VTIMEZONE
BEGIN:VEVENT
UID:69eb4cd49b14f
DTSTART;TZID=America/Toronto:20240119T140000
SEQUENCE:0
TRANSP:TRANSPARENT
DTEND;TZID=America/Toronto:20240119T153000
URL:https://uwaterloo.ca/chemistry/events/doctoral-thesis-defence-matthew-e
 dwards
SUMMARY:Doctoral Thesis Defence - Matthew Edwards
CLASS:PUBLIC
DESCRIPTION:DEVELOPMENT AND APPLICATION OF A CONSUMABLE-FREE MODULATOR FOR\
 nCOMPREHENSIVE TWO-DIMENSIONAL GAS CHROMATOGRAPHY\n\nSUPERVISOR: T. GORECK
 I\n\nFRIDAY\, JANUARY 19\, 2024\n\n2:00 PM\n\nROOM: C2-361 AND TEAMS
DTSTAMP:20260424T105828Z
END:VEVENT
END:VCALENDAR