BEGIN:VCALENDAR
VERSION:2.0
PRODID:-//Drupal iCal API//EN
X-WR-CALNAME:Events items teaser
X-WR-TIMEZONE:America/Toronto
BEGIN:VTIMEZONE
TZID:America/Toronto
X-LIC-LOCATION:America/Toronto
BEGIN:DAYLIGHT
TZNAME:EDT
TZOFFSETFROM:-0500
TZOFFSETTO:-0400
DTSTART:20230312T070000
END:DAYLIGHT
BEGIN:STANDARD
TZNAME:EST
TZOFFSETFROM:-0400
TZOFFSETTO:-0500
DTSTART:20231105T060000
END:STANDARD
END:VTIMEZONE
BEGIN:VEVENT
UID:69eb605b26f77
DTSTART;TZID=America/Toronto:20240124T130000
SEQUENCE:0
TRANSP:TRANSPARENT
DTEND;TZID=America/Toronto:20240124T143000
URL:https://uwaterloo.ca/chemistry/events/doctoral-thesis-defence-daniel-ri
 ckert
SUMMARY:Doctoral Thesis Defence - Daniel Rickert
CLASS:PUBLIC
DESCRIPTION:TOWARDS THE DEVELOPMENT OF A PROTOTYPE ION MOBILITY SPECTROMETE
 R\n\nSUPERVISOR: J. PAWLISZYN\n\nWEDNESDAY\, JANUARY 24\, 2024\n\n1:00 PM\
 n\nROOM: C2-361 AND TEAMS
DTSTAMP:20260424T122147Z
END:VEVENT
END:VCALENDAR