BEGIN:VCALENDAR
VERSION:2.0
PRODID:-//Drupal iCal API//EN
X-WR-CALNAME:Events items teaser
X-WR-TIMEZONE:America/Toronto
BEGIN:VTIMEZONE
TZID:America/Toronto
X-LIC-LOCATION:America/Toronto
BEGIN:DAYLIGHT
TZNAME:EDT
TZOFFSETFROM:-0500
TZOFFSETTO:-0400
DTSTART:20230312T070000
END:DAYLIGHT
BEGIN:STANDARD
TZNAME:EST
TZOFFSETFROM:-0400
TZOFFSETTO:-0500
DTSTART:20231105T060000
END:STANDARD
END:VTIMEZONE
BEGIN:VEVENT
UID:69eb9d77be281
DTSTART;TZID=America/Toronto:20240125T130000
SEQUENCE:0
TRANSP:TRANSPARENT
DTEND;TZID=America/Toronto:20240125T143000
URL:https://uwaterloo.ca/chemistry/events/doctoral-thesis-defence-runshan-w
 ill-jiang
SUMMARY:Doctoral Thesis Defence - Runshan (Will) Jiang
CLASS:PUBLIC
DESCRIPTION:DEVELOPMENT AND APPLICATIONS OF IN VIVO SOLID PHASE MICROEXTRAC
 TION\n(SPME) MEDICAL CHEMICAL BIOPSY SAMPLING DEVICE\n\nSUPERVISOR: J. PAW
 LISZYN\n\nTHURSDAY\, JANUARY 25\, 2024\n\n1:00 PM\n\nREMOTE - TEAMS
DTSTAMP:20260424T164231Z
END:VEVENT
END:VCALENDAR