BEGIN:VCALENDAR
VERSION:2.0
PRODID:-//Drupal iCal API//EN
X-WR-CALNAME:Events items teaser
X-WR-TIMEZONE:America/Toronto
BEGIN:VTIMEZONE
TZID:America/Toronto
X-LIC-LOCATION:America/Toronto
BEGIN:DAYLIGHT
TZNAME:EDT
TZOFFSETFROM:-0500
TZOFFSETTO:-0400
DTSTART:20230312T070000
END:DAYLIGHT
BEGIN:STANDARD
TZNAME:EST
TZOFFSETFROM:-0400
TZOFFSETTO:-0500
DTSTART:20231105T060000
END:STANDARD
END:VTIMEZONE
BEGIN:VEVENT
UID:69ed5d2bcf54b
DTSTART;TZID=America/Toronto:20240213T143000
SEQUENCE:0
TRANSP:TRANSPARENT
DTEND;TZID=America/Toronto:20240213T163000
URL:https://uwaterloo.ca/chemistry/events/doctoral-seminar-madison-donohoe
SUMMARY:Doctoral Seminar - Madison Donohoe
CLASS:PUBLIC
DESCRIPTION:OPTIMIZATION OF LOW-TEMPERATURE THERMOELECTRIC MATERIALS FOR EX
 PANDING\nTHERMOELECTRIC GENERATOR APPLICATIONS\n\nSupervisor: H. Kleinke\n
 \nCommittee Members: R. Smith\, P. Radovanovic\, A. Klinkova\n\nTUESDAY\, 
 FEBRUARY 13\, 2024\n2:30 pm\nC2-278
DTSTAMP:20260426T003243Z
END:VEVENT
END:VCALENDAR