BEGIN:VCALENDAR
VERSION:2.0
PRODID:-//Drupal iCal API//EN
X-WR-CALNAME:Events items teaser
X-WR-TIMEZONE:America/Toronto
BEGIN:VTIMEZONE
TZID:America/Toronto
X-LIC-LOCATION:America/Toronto
BEGIN:DAYLIGHT
TZNAME:EDT
TZOFFSETFROM:-0500
TZOFFSETTO:-0400
DTSTART:20230312T070000
END:DAYLIGHT
BEGIN:STANDARD
TZNAME:EST
TZOFFSETFROM:-0400
TZOFFSETTO:-0500
DTSTART:20231105T060000
END:STANDARD
END:VTIMEZONE
BEGIN:VEVENT
UID:69eca1f9d5d68
DTSTART;TZID=America/Toronto:20240215T133000
SEQUENCE:0
TRANSP:TRANSPARENT
DTEND;TZID=America/Toronto:20240215T153000
URL:https://uwaterloo.ca/chemistry/events/doctoral-seminar-max-walton-raaby
SUMMARY:Doctoral Seminar - Max Walton-Raaby
CLASS:PUBLIC
DESCRIPTION:INVESTIGATING THE THERANOSTIC POTENTIAL OF GRAPHENE QUANTUM DOT
 S IN\nALZHEIMER’S DISEASE\n\nSupervisor: S.Kalyaanamoorthy\nCommittee Me
 mbers: P.N. Roy\, J. Honek\, M. Nooijen\n\nTHURSDAY\, FEBRUARY 15\, 2024\n
 1:30 pm\nC2-278
DTSTAMP:20260425T111401Z
END:VEVENT
END:VCALENDAR