BEGIN:VCALENDAR
VERSION:2.0
PRODID:-//Drupal iCal API//EN
X-WR-CALNAME:Events items teaser
X-WR-TIMEZONE:America/Toronto
BEGIN:VTIMEZONE
TZID:America/Toronto
X-LIC-LOCATION:America/Toronto
BEGIN:DAYLIGHT
TZNAME:EDT
TZOFFSETFROM:-0500
TZOFFSETTO:-0400
DTSTART:20230312T070000
END:DAYLIGHT
BEGIN:STANDARD
TZNAME:EST
TZOFFSETFROM:-0400
TZOFFSETTO:-0500
DTSTART:20231105T060000
END:STANDARD
END:VTIMEZONE
BEGIN:VEVENT
UID:69ea789f491a1
DTSTART;TZID=America/Toronto:20240227T090000
SEQUENCE:0
TRANSP:TRANSPARENT
DTEND;TZID=America/Toronto:20240227T110000
URL:https://uwaterloo.ca/chemistry/events/doctoral-seminar-yachen-xie
SUMMARY:Doctoral Seminar - Yachen Xie
CLASS:PUBLIC
DESCRIPTION:APTAMER-BASED BIOSENSOR FOR THE DETECTION OF HEME’S DERIVATIV
 ES\n\nSupervisor: J. Liu\nCommittee Members: S. Kalyaanamoorthy\, V. Mahes
 hwari\, D. O'Flaherty\n\nTUESDAY\, FEBRUARY 27\, 2024\n9:00 am\nTeams
DTSTAMP:20260423T195303Z
END:VEVENT
END:VCALENDAR