BEGIN:VCALENDAR
VERSION:2.0
PRODID:-//Drupal iCal API//EN
X-WR-CALNAME:Events items teaser
X-WR-TIMEZONE:America/Toronto
BEGIN:VTIMEZONE
TZID:America/Toronto
X-LIC-LOCATION:America/Toronto
BEGIN:DAYLIGHT
TZNAME:EDT
TZOFFSETFROM:-0500
TZOFFSETTO:-0400
DTSTART:20230312T070000
END:DAYLIGHT
BEGIN:STANDARD
TZNAME:EST
TZOFFSETFROM:-0400
TZOFFSETTO:-0500
DTSTART:20231105T060000
END:STANDARD
END:VTIMEZONE
BEGIN:VEVENT
UID:69ea9b34528f6
DTSTART;TZID=America/Toronto:20240222T143000
SEQUENCE:0
TRANSP:TRANSPARENT
DTEND;TZID=America/Toronto:20240222T160000
URL:https://uwaterloo.ca/chemistry/events/masters-seminar-megan-dawson
SUMMARY:Master's Seminar - Megan Dawson
CLASS:PUBLIC
DESCRIPTION:ASSESSING CARBOHYDRATE CONFORMATIONS WITH PATH INTEGRAL MOLECUL
 AR\nDYNAMICS\n\nSupervisor: P.N. Roy\nCommittee members: M. Nooijen\, C. T
 etsassi Feugmo\n\nTHURSDAY\, FEBRUARY 22\, 2024\n2:30 pm\n\nC2-361
DTSTAMP:20260423T222036Z
END:VEVENT
END:VCALENDAR