BEGIN:VCALENDAR
VERSION:2.0
PRODID:-//Drupal iCal API//EN
X-WR-CALNAME:Events items teaser
X-WR-TIMEZONE:America/Toronto
BEGIN:VTIMEZONE
TZID:America/Toronto
X-LIC-LOCATION:America/Toronto
BEGIN:DAYLIGHT
TZNAME:EDT
TZOFFSETFROM:-0500
TZOFFSETTO:-0400
DTSTART:20230312T070000
END:DAYLIGHT
BEGIN:STANDARD
TZNAME:EST
TZOFFSETFROM:-0400
TZOFFSETTO:-0500
DTSTART:20231105T060000
END:STANDARD
END:VTIMEZONE
BEGIN:VEVENT
UID:69ea789f7bd71
DTSTART;TZID=America/Toronto:20240227T143000
SEQUENCE:0
TRANSP:TRANSPARENT
DTEND;TZID=America/Toronto:20240227T160000
URL:https://uwaterloo.ca/chemistry/events/masters-seminar-ted-bozek
SUMMARY:Master's Seminar - Ted Bozek
CLASS:PUBLIC
DESCRIPTION:LIGAND ENHANCED LUMINESCENCE IN ZINC-CHALCOGENOLATE COMPLEXES\n
 \nSupervisor: J. Corrigan\nCommittee members: J. Duhamel\, S. Lee\n\nTUESD
 AY\, FEBRUARY 27\, 2024\n2:30 pm\n\nC2-361
DTSTAMP:20260423T195303Z
END:VEVENT
END:VCALENDAR