BEGIN:VCALENDAR
VERSION:2.0
PRODID:-//Drupal iCal API//EN
X-WR-CALNAME:Events items teaser
X-WR-TIMEZONE:America/Toronto
BEGIN:VTIMEZONE
TZID:America/Toronto
X-LIC-LOCATION:America/Toronto
BEGIN:DAYLIGHT
TZNAME:EDT
TZOFFSETFROM:-0500
TZOFFSETTO:-0400
DTSTART:20230312T070000
END:DAYLIGHT
BEGIN:STANDARD
TZNAME:EST
TZOFFSETFROM:-0400
TZOFFSETTO:-0500
DTSTART:20231105T060000
END:STANDARD
END:VTIMEZONE
BEGIN:VEVENT
UID:69ea42558a9e3
DTSTART;TZID=America/Toronto:20240229T150000
SEQUENCE:0
TRANSP:TRANSPARENT
DTEND;TZID=America/Toronto:20240229T163000
URL:https://uwaterloo.ca/chemistry/events/masters-seminar-robert-brill
SUMMARY:Master's Seminar - Robert Brill
CLASS:PUBLIC
DESCRIPTION:SYNTHESIS AND ACTIVITY FOR DAPTOMYCIN ANALOGUES\n\nSupervisor: 
 S. Taylor\nCommittee members: E. Fillion\, E. Meiering\n\nTHURSDAY\, FEBRU
 ARY 29\, 2024\n3:00 pm\n\nC2-361
DTSTAMP:20260423T160125Z
END:VEVENT
END:VCALENDAR