BEGIN:VCALENDAR
VERSION:2.0
PRODID:-//Drupal iCal API//EN
X-WR-CALNAME:Events items teaser
X-WR-TIMEZONE:America/Toronto
BEGIN:VTIMEZONE
TZID:America/Toronto
X-LIC-LOCATION:America/Toronto
BEGIN:DAYLIGHT
TZNAME:EDT
TZOFFSETFROM:-0500
TZOFFSETTO:-0400
DTSTART:20230312T070000
END:DAYLIGHT
BEGIN:STANDARD
TZNAME:EST
TZOFFSETFROM:-0400
TZOFFSETTO:-0500
DTSTART:20231105T060000
END:STANDARD
END:VTIMEZONE
BEGIN:VEVENT
UID:69eb36c628f98
DTSTART;TZID=America/Toronto:20240307T143000
SEQUENCE:0
TRANSP:TRANSPARENT
DTEND;TZID=America/Toronto:20240307T160000
URL:https://uwaterloo.ca/chemistry/events/masters-seminar-gyeongsu-kim
SUMMARY:Master's Seminar - Gyeongsu Kim
CLASS:PUBLIC
DESCRIPTION:TOTAL SYNTHESIS OF TURNERCYCLAMYCIN\n\nSupervisor: S. Taylor\nC
 ommittee members: M. Chong\, E. Fillion\, A. Schwan\n\nTHURSDAY\, MARCH 7\
 , 2024\n2:30 pm\n\nC2-361
DTSTAMP:20260424T092422Z
END:VEVENT
END:VCALENDAR