BEGIN:VCALENDAR
VERSION:2.0
PRODID:-//Drupal iCal API//EN
X-WR-CALNAME:Events items teaser
X-WR-TIMEZONE:America/Toronto
BEGIN:VTIMEZONE
TZID:America/Toronto
X-LIC-LOCATION:America/Toronto
BEGIN:DAYLIGHT
TZNAME:EDT
TZOFFSETFROM:-0500
TZOFFSETTO:-0400
DTSTART:20240310T070000
END:DAYLIGHT
BEGIN:STANDARD
TZNAME:EST
TZOFFSETFROM:-0400
TZOFFSETTO:-0500
DTSTART:20231105T060000
END:STANDARD
END:VTIMEZONE
BEGIN:VEVENT
UID:69ec17263c6ac
DTSTART;TZID=America/Toronto:20240321T133000
SEQUENCE:0
TRANSP:TRANSPARENT
DTEND;TZID=America/Toronto:20240321T150000
URL:https://uwaterloo.ca/chemistry/events/masters-seminar-xinning-wang
SUMMARY:Master's Seminar - Xinning Wang
CLASS:PUBLIC
DESCRIPTION:IMPACT OF NOISE ON A VARIATIONAL QUANTUM EIGENSOLVER IMPLEMENTE
 D WITH\nSPIN QUBITS\n\nSupervisor: J. Baugh\nCommittee members: M. Nooijen
 . G. Sciaini\n\nTHURSDAY\, MARCH 21\, 2024\n1:30 pm\n\nC2-361
DTSTAMP:20260425T012142Z
END:VEVENT
END:VCALENDAR