BEGIN:VCALENDAR
VERSION:2.0
PRODID:-//Drupal iCal API//EN
X-WR-CALNAME:Events items teaser
X-WR-TIMEZONE:America/Toronto
BEGIN:VTIMEZONE
TZID:America/Toronto
X-LIC-LOCATION:America/Toronto
BEGIN:DAYLIGHT
TZNAME:EDT
TZOFFSETFROM:-0500
TZOFFSETTO:-0400
DTSTART:20240310T070000
END:DAYLIGHT
BEGIN:STANDARD
TZNAME:EST
TZOFFSETFROM:-0400
TZOFFSETTO:-0500
DTSTART:20231105T060000
END:STANDARD
END:VTIMEZONE
BEGIN:VEVENT
UID:69ea789e78c84
DTSTART;TZID=America/Toronto:20240326T143000
SEQUENCE:0
TRANSP:TRANSPARENT
DTEND;TZID=America/Toronto:20240326T160000
URL:https://uwaterloo.ca/chemistry/events/masters-seminar-dakota-chen
SUMMARY:Master's Seminar - Dakota Chen
CLASS:PUBLIC
DESCRIPTION:APTAMER-BASED SENSING FOR GUANOSINE AND ITS ADDUCTS\n\nSupervis
 or: J. Liu\nCommittee members: S. Tang\, J. Honek\n\nTUESDAY\, MARCH 26\, 
 2024\n2:30 pm\n\nC2-361
DTSTAMP:20260423T195302Z
END:VEVENT
END:VCALENDAR