BEGIN:VCALENDAR
VERSION:2.0
PRODID:-//Drupal iCal API//EN
X-WR-CALNAME:Events items teaser
X-WR-TIMEZONE:America/Toronto
BEGIN:VTIMEZONE
TZID:America/Toronto
X-LIC-LOCATION:America/Toronto
BEGIN:DAYLIGHT
TZNAME:EDT
TZOFFSETFROM:-0500
TZOFFSETTO:-0400
DTSTART:20240310T070000
END:DAYLIGHT
BEGIN:STANDARD
TZNAME:EST
TZOFFSETFROM:-0400
TZOFFSETTO:-0500
DTSTART:20231105T060000
END:STANDARD
END:VTIMEZONE
BEGIN:VEVENT
UID:69ec166d71824
DTSTART;TZID=America/Toronto:20240402T143000
SEQUENCE:0
TRANSP:TRANSPARENT
DTEND;TZID=America/Toronto:20240402T160000
URL:https://uwaterloo.ca/chemistry/events/masters-seminar-ethan-piercey
SUMMARY:Master's Seminar - Ethan Piercey
CLASS:PUBLIC
DESCRIPTION:CARBON NANOTUBE-BASED IONIC DIODES: APPLICATIONS FOR DNA DETECT
 ION\n\nSupervisor: S. Tang\nCommittee members: M. Poudineh\, J. Liu\n\nTUE
 SDAY\, APRIL 2\, 2024\n2:30 pm\n\nC2-278
DTSTAMP:20260425T011837Z
END:VEVENT
END:VCALENDAR