BEGIN:VCALENDAR
VERSION:2.0
PRODID:-//Drupal iCal API//EN
X-WR-CALNAME:Events items teaser
X-WR-TIMEZONE:America/Toronto
BEGIN:VTIMEZONE
TZID:America/Toronto
X-LIC-LOCATION:America/Toronto
BEGIN:DAYLIGHT
TZNAME:EDT
TZOFFSETFROM:-0500
TZOFFSETTO:-0400
DTSTART:20240310T070000
END:DAYLIGHT
BEGIN:STANDARD
TZNAME:EST
TZOFFSETFROM:-0400
TZOFFSETTO:-0500
DTSTART:20231105T060000
END:STANDARD
END:VTIMEZONE
BEGIN:VEVENT
UID:69ebec0dcf148
DTSTART;TZID=America/Toronto:20240404T143000
SEQUENCE:0
TRANSP:TRANSPARENT
DTEND;TZID=America/Toronto:20240404T160000
URL:https://uwaterloo.ca/chemistry/events/masters-seminar-owen-babcock
SUMMARY:Master's Seminar - Owen Babcock
CLASS:PUBLIC
DESCRIPTION:TRANSGLUTAMINASE MEDIATED ZEIN MODIFICATION\n\nSupervisor: J. H
 onek\nCommittee member: T. Dieckmann\n\nTHURSDAY\, APRIL 4\, 2024\n2:30 pm
 \n\nC2-278
DTSTAMP:20260424T221749Z
END:VEVENT
END:VCALENDAR