BEGIN:VCALENDAR
VERSION:2.0
PRODID:-//Drupal iCal API//EN
X-WR-CALNAME:Events items teaser
X-WR-TIMEZONE:America/Toronto
BEGIN:VTIMEZONE
TZID:America/Toronto
X-LIC-LOCATION:America/Toronto
BEGIN:DAYLIGHT
TZNAME:EDT
TZOFFSETFROM:-0500
TZOFFSETTO:-0400
DTSTART:20180311T070000
END:DAYLIGHT
BEGIN:STANDARD
TZNAME:EST
TZOFFSETFROM:-0400
TZOFFSETTO:-0500
DTSTART:20171105T060000
END:STANDARD
END:VTIMEZONE
BEGIN:VEVENT
UID:69e4d5e141f11
DTSTART;TZID=America/Toronto:20180322T120000
SEQUENCE:0
TRANSP:TRANSPARENT
DTEND;TZID=America/Toronto:20180322T170000
URL:https://uwaterloo.ca/civil-environmental-engineering/events/civil-envir
 onmental-geological-engineering-capstone-design-0
LOCATION:DC - William G. Davis Computer Research Centre 200 University Aven
 ue West Waterloo ON N2L 3G1 Canada
SUMMARY:Civil\, Environmental\, Geological Engineering Capstone Design Symp
 osium
CLASS:PUBLIC
DESCRIPTION:Come and explore Civil\, Environmental &amp; Geological's Capstone 
 Design\nSymposium!\n\nView all 2018 Civil\, Environmental &amp; Geological En
 gineering Capstone\nDesign Projects.\n[https://uwaterloo.ca/capstone-desig
 n/2018-civil-environmental-and-geological-engineering-capstone]
DTSTAMP:20260419T131721Z
END:VEVENT
END:VCALENDAR