BEGIN:VCALENDAR
VERSION:2.0
PRODID:-//Drupal iCal API//EN
X-WR-CALNAME:Events items teaser
X-WR-TIMEZONE:America/Toronto
BEGIN:VTIMEZONE
TZID:America/Toronto
X-LIC-LOCATION:America/Toronto
BEGIN:DAYLIGHT
TZNAME:EDT
TZOFFSETFROM:-0500
TZOFFSETTO:-0400
DTSTART:20160313T070000
END:DAYLIGHT
BEGIN:STANDARD
TZNAME:EST
TZOFFSETFROM:-0400
TZOFFSETTO:-0500
DTSTART:20161106T060000
END:STANDARD
END:VTIMEZONE
BEGIN:VEVENT
UID:69e7f813ee826
DTSTART;TZID=America/Toronto:20161128T183000
SEQUENCE:0
TRANSP:TRANSPARENT
DTEND;TZID=America/Toronto:20161128T203000
URL:https://uwaterloo.ca/climate-institute/events/agreement-action-climate-
 change-reflections-after-cop22
LOCATION:STP - St. Paul's University College 190 Westmount Road North Alumn
 i Hall Waterloo ON N2L 3G5 Canada
SUMMARY:From Agreement to Action on Climate Change: Reflections after the\n
 COP22 UN Climate Summit
CLASS:PUBLIC
DESCRIPTION:It has been one year since the countries of the world agreed\, 
 for the\nfirst time\, to act collectively on climate change. Since then\, 
 focus\nhas turned to questions of implementation. _How can the Paris\nAgr
 eement successfully be put into action at the global scale\, in our\ncount
 ry\, and in our communities?__ Are current actions ‘good\nenough’ to 
 get us to the goal of limiting global warming to less\nthan 2 degrees Cels
 ius by the end of the century?_\n\nJoin us for a panel discussion on Novem
 ber 28th to hear reflections\nfrom policy experts and students who were at
  COP22 in Morocco earlier\nthis month.
DTSTAMP:20260421T222003Z
END:VEVENT
END:VCALENDAR