BEGIN:VCALENDAR
VERSION:2.0
PRODID:-//Drupal iCal API//EN
X-WR-CALNAME:Events items teaser
X-WR-TIMEZONE:America/Toronto
BEGIN:VTIMEZONE
TZID:America/Toronto
X-LIC-LOCATION:America/Toronto
BEGIN:DAYLIGHT
TZNAME:EDT
TZOFFSETFROM:-0500
TZOFFSETTO:-0400
DTSTART:20230312T070000
END:DAYLIGHT
BEGIN:STANDARD
TZNAME:EST
TZOFFSETFROM:-0400
TZOFFSETTO:-0500
DTSTART:20231105T060000
END:STANDARD
END:VTIMEZONE
BEGIN:VEVENT
UID:69eb7fd8c0185
DTSTART;TZID=America/Toronto:20231114T130000
SEQUENCE:0
TRANSP:TRANSPARENT
DTEND;TZID=America/Toronto:20231114T140000
URL:https://uwaterloo.ca/climate-institute/events/climate-change-nexus-soci
 ety-and-environment-empirical
LOCATION:DC - William G. Davis Computer Research Centre 200 University Aven
 ue West Waterloo ON N2L 3G1 Canada
SUMMARY:Climate change at the nexus of society and the environment: empiric
 al\nmethods and simulation modeling
CLASS:PUBLIC
DESCRIPTION:Join Jonathan Gilligan\, Fulbright Canada Research Chair in Dig
 ital\nTechnologies and Sustainability\, as they explore how to use simulat
 ion\nmodeling and statistical analysis to better understand interactions\n
 between human behaviour and the environment. This event is co-hosted\nby t
 he Waterloo Climate Institute\, TRANSFORM\, and the department of\nGeograp
 hy and Environmental Management in the Faculty of Environment.
DTSTAMP:20260424T143608Z
END:VEVENT
END:VCALENDAR