BEGIN:VCALENDAR
VERSION:2.0
PRODID:-//Drupal iCal API//EN
X-WR-CALNAME:Events items teaser
X-WR-TIMEZONE:America/Toronto
BEGIN:VTIMEZONE
TZID:America/Toronto
X-LIC-LOCATION:America/Toronto
BEGIN:DAYLIGHT
TZNAME:EDT
TZOFFSETFROM:-0500
TZOFFSETTO:-0400
DTSTART:20230312T070000
END:DAYLIGHT
BEGIN:STANDARD
TZNAME:EST
TZOFFSETFROM:-0400
TZOFFSETTO:-0500
DTSTART:20231105T060000
END:STANDARD
END:VTIMEZONE
BEGIN:VEVENT
UID:69eb509a1c6f5
DTSTART;TZID=America/Toronto:20231115T130000
SEQUENCE:0
TRANSP:TRANSPARENT
DTEND;TZID=America/Toronto:20231115T143000
URL:https://uwaterloo.ca/climate-institute/events/cop28-canadas-position-gl
 obal-stocktake
SUMMARY:COP28: Canada’s position in the Global Stocktake
CLASS:PUBLIC
DESCRIPTION:Join Sarah Burch for an informative discussion with COP experts
 \,\nDaniel Scott\, Dave Sawyer\, and Catherine Abreu. The virtual panel\n
 “COP28: Canada’s position in the Global Stocktake” will take\nplace 
 on November 15th from 1:00pm-2:30pm. RSVP to receive the link.
DTSTAMP:20260424T111434Z
END:VEVENT
END:VCALENDAR