BEGIN:VCALENDAR
VERSION:2.0
PRODID:-//Drupal iCal API//EN
X-WR-CALNAME:Events items teaser
X-WR-TIMEZONE:America/Toronto
BEGIN:VTIMEZONE
TZID:America/Toronto
X-LIC-LOCATION:America/Toronto
BEGIN:DAYLIGHT
TZNAME:EDT
TZOFFSETFROM:-0500
TZOFFSETTO:-0400
DTSTART:20240310T070000
END:DAYLIGHT
BEGIN:STANDARD
TZNAME:EST
TZOFFSETFROM:-0400
TZOFFSETTO:-0500
DTSTART:20231105T060000
END:STANDARD
END:VTIMEZONE
BEGIN:VEVENT
UID:69e7e18e49845
DTSTART;TZID=America/Toronto:20240321T190000
SEQUENCE:0
TRANSP:TRANSPARENT
DTEND;TZID=America/Toronto:20240321T200000
URL:https://uwaterloo.ca/climate-institute/events/understanding-our-feeling
 s-about-climate-change-impacts-our
LOCATION:85 Queen St. N Kitchener ON N2H2H1 Canada
SUMMARY:Understanding our feelings about climate change: Impacts on our hea
 lth
CLASS:PUBLIC
DESCRIPTION:How we feel about climate change is really important - so we ne
 ed to\nthink about it and measure it. There are a lot of words being used 
 to\ndescribe how we feel about climate change: worry\, anxiety\,\neco-anxi
 ety\, decreased well-being\, and so on. This talk will be lead\nby Susan E
 lliott\, Professor of Geography and Environmental Management.\nSusan Ellio
 tt's research interests are environment and health\, the\nglobal environme
 nt\, urban social geography\,and philosophy and method\nin the social scie
 nces.
DTSTAMP:20260421T204358Z
END:VEVENT
END:VCALENDAR