BEGIN:VCALENDAR
VERSION:2.0
PRODID:-//Drupal iCal API//EN
X-WR-CALNAME:Events items teaser
X-WR-TIMEZONE:America/Toronto
BEGIN:VTIMEZONE
TZID:America/Toronto
X-LIC-LOCATION:America/Toronto
BEGIN:DAYLIGHT
TZNAME:EDT
TZOFFSETFROM:-0500
TZOFFSETTO:-0400
DTSTART:20250309T070000
END:DAYLIGHT
BEGIN:STANDARD
TZNAME:EST
TZOFFSETFROM:-0400
TZOFFSETTO:-0500
DTSTART:20241103T060000
END:STANDARD
END:VTIMEZONE
BEGIN:VEVENT
UID:69eb7913a25bb
DTSTART;TZID=America/Toronto:20250924T160000
SEQUENCE:0
TRANSP:TRANSPARENT
DTEND;TZID=America/Toronto:20250924T180000
URL:https://uwaterloo.ca/climate-institute/events/climate-crossroads-interd
 isciplinary-networking-workshop
LOCATION:SLC - Student Life Centre 200 University Avenue West SLC Multipurp
 ose Room Waterloo ON N2L 3G1 Canada
SUMMARY:Climate Crossroads: interdisciplinary networking workshop for stude
 nts
CLASS:PUBLIC
DESCRIPTION:Join the Waterloo Climate Institute and Sustainability Office o
 n\nWednesday September 24th for a workshop and information session!
DTSTAMP:20260424T140715Z
END:VEVENT
END:VCALENDAR