BEGIN:VCALENDAR
VERSION:2.0
PRODID:-//Drupal iCal API//EN
X-WR-CALNAME:Events items teaser
X-WR-TIMEZONE:America/Toronto
BEGIN:VTIMEZONE
TZID:America/Toronto
X-LIC-LOCATION:America/Toronto
BEGIN:DAYLIGHT
TZNAME:EDT
TZOFFSETFROM:-0500
TZOFFSETTO:-0400
DTSTART:20250309T070000
END:DAYLIGHT
BEGIN:STANDARD
TZNAME:EST
TZOFFSETFROM:-0400
TZOFFSETTO:-0500
DTSTART:20241103T060000
END:STANDARD
END:VTIMEZONE
BEGIN:VEVENT
UID:69ec174382cac
DTSTART;TZID=America/Toronto:20251009T130000
SEQUENCE:0
TRANSP:TRANSPARENT
DTEND;TZID=America/Toronto:20251009T143000
URL:https://uwaterloo.ca/climate-institute/events/climate-change-research-a
 nd-action-era-political-turmoil
LOCATION:EC5 - East Campus 5 room 1111 305 Phillip St. Waterloo ON N2L 5Z5 
 Canada
SUMMARY:Climate Change Research and Action in an Era of Political Turmoil
CLASS:PUBLIC
DESCRIPTION:Join the Waterloo Climate Institute for a thought-provoking pan
 el\ndiscussion \"Climate Change Research and Action in an Era of Political
 \nTurmoil\" on October 9th at 1:00pm.
DTSTAMP:20260425T012211Z
END:VEVENT
END:VCALENDAR