BEGIN:VCALENDAR
VERSION:2.0
PRODID:-//Drupal iCal API//EN
X-WR-CALNAME:Events items teaser
X-WR-TIMEZONE:America/Toronto
BEGIN:VTIMEZONE
TZID:America/Toronto
X-LIC-LOCATION:America/Toronto
BEGIN:DAYLIGHT
TZNAME:EDT
TZOFFSETFROM:-0500
TZOFFSETTO:-0400
DTSTART:20240310T070000
END:DAYLIGHT
BEGIN:STANDARD
TZNAME:EST
TZOFFSETFROM:-0400
TZOFFSETTO:-0500
DTSTART:20231105T060000
END:STANDARD
END:VTIMEZONE
BEGIN:VEVENT
UID:69e87bd23d3bc
DTSTART;TZID=America/Toronto:20240522T130000
SEQUENCE:0
TRANSP:TRANSPARENT
DTEND;TZID=America/Toronto:20240522T150000
URL:https://uwaterloo.ca/climate-intervention-strategies-lab/events/canadia
 n-perspectives-and-pathways-ocean-based-climate
SUMMARY:Canadian Perspectives and Pathways in Ocean-Based Climate\nInterven
 tions
CLASS:PUBLIC
DESCRIPTION:MEOPAR\, in partnership with the Waterloo Climate Intervention\
 nStrategies Lab (WatCISL\n[https://uwaterloo.ca/climate-intervention-strat
 egies-lab/])\, and with\nthe support of Environment and Climate Change Can
 ada (ECCC\n[https://www.canada.ca/en/environment-climate-change.html]) wil
 l host\ntwo Canada-focused webinars:\n\n* Marine carbon dioxide removal (m
 CDR) – May 22\, 2024 – 1pm-3pm\nEDT\n\n* Other ocean-based climate int
 erventions – June 5\, 2024\n– 1pm-3pm EDT\n\nRegister here.\n[https:/
 /meopar.ca/marine-climate-interventions-webinar/]
DTSTAMP:20260422T074210Z
END:VEVENT
BEGIN:VEVENT
UID:69e87bd23fafa
DTSTART;TZID=America/Toronto:20240605T130000
SEQUENCE:0
TRANSP:TRANSPARENT
DTEND;TZID=America/Toronto:20240605T150000
URL:https://uwaterloo.ca/climate-intervention-strategies-lab/events/canadia
 n-perspectives-and-pathways-ocean-based-climate
SUMMARY:Canadian Perspectives and Pathways in Ocean-Based Climate\nInterven
 tions
CLASS:PUBLIC
DESCRIPTION:MEOPAR\, in partnership with the Waterloo Climate Intervention\
 nStrategies Lab (WatCISL\n[https://uwaterloo.ca/climate-intervention-strat
 egies-lab/])\, and with\nthe support of Environment and Climate Change Can
 ada (ECCC\n[https://www.canada.ca/en/environment-climate-change.html]) wil
 l host\ntwo Canada-focused webinars:\n\n* Marine carbon dioxide removal (m
 CDR) – May 22\, 2024 – 1pm-3pm\nEDT\n\n* Other ocean-based climate int
 erventions – June 5\, 2024\n– 1pm-3pm EDT\n\nRegister here.\n[https:/
 /meopar.ca/marine-climate-interventions-webinar/]
DTSTAMP:20260422T074210Z
END:VEVENT
END:VCALENDAR