BEGIN:VCALENDAR
VERSION:2.0
PRODID:-//Drupal iCal API//EN
X-WR-CALNAME:Events items teaser
X-WR-TIMEZONE:America/Toronto
BEGIN:VTIMEZONE
TZID:America/Toronto
X-LIC-LOCATION:America/Toronto
BEGIN:DAYLIGHT
TZNAME:EDT
TZOFFSETFROM:-0500
TZOFFSETTO:-0400
DTSTART:20190310T070000
END:DAYLIGHT
BEGIN:STANDARD
TZNAME:EST
TZOFFSETFROM:-0400
TZOFFSETTO:-0500
DTSTART:20181104T060000
END:STANDARD
END:VTIMEZONE
BEGIN:VEVENT
UID:69e6abc1097d7
DTSTART;TZID=America/Toronto:20190704T153000
SEQUENCE:0
TRANSP:TRANSPARENT
DTEND;TZID=America/Toronto:20190704T153000
URL:https://uwaterloo.ca/combinatorics-and-optimization/events/algebraic-co
 mbinatorics-angele-hamel
LOCATION:MC - Mathematics &amp; Computer Building 200 University Avenue West 54
 17 Waterloo ON N2L 3G1 Canada
SUMMARY:Algebraic Combinatorics - Angele Hamel
CLASS:PUBLIC
DESCRIPTION:TITLE: Fun with Pfaffians: Identities for Schur Q-Functions\n\
 nSpeaker:\n Angele Hamel\n\nAffiliation:\n Wilfrid Laurier University\n\nR
 oom:\n MC 5417\n\nABSTRACT:\n\nSchur functions determinantal identities (e
 .g. Jacobi-Trudi\,\nGiambelli) are cornerstones of symmetric function theo
 ry. Less\nwell-known are the Pfaffian identities for Schur Q-functions.
DTSTAMP:20260420T224209Z
END:VEVENT
END:VCALENDAR