BEGIN:VCALENDAR
VERSION:2.0
PRODID:-//Drupal iCal API//EN
X-WR-CALNAME:Events items teaser
X-WR-TIMEZONE:America/Toronto
BEGIN:VTIMEZONE
TZID:America/Toronto
X-LIC-LOCATION:America/Toronto
BEGIN:DAYLIGHT
TZNAME:EDT
TZOFFSETFROM:-0500
TZOFFSETTO:-0400
DTSTART:20220313T070000
END:DAYLIGHT
BEGIN:STANDARD
TZNAME:EST
TZOFFSETFROM:-0400
TZOFFSETTO:-0500
DTSTART:20211107T060000
END:STANDARD
END:VTIMEZONE
BEGIN:VEVENT
UID:69e71d7a7c78b
DTSTART;TZID=America/Toronto:20220513T083000
SEQUENCE:0
TRANSP:TRANSPARENT
DTEND;TZID=America/Toronto:20220514T170000
URL:https://uwaterloo.ca/combinatorics-and-optimization/events/26th-ontario
 -combinatorics-workshop
LOCATION:QNC - Quantum Nano Centre 200 University Avenue West QNC 0101 Wate
 rloo ON N2L 3G1 Canada
SUMMARY:26th Ontario Combinatorics Workshop
CLASS:PUBLIC
DESCRIPTION:The Ontario Combinatorics Workshop is a meeting for researchers
 \nworking in combinatorics from Ontario and surrounding areas to gather\na
 nd share their latest research developments. The objective of this\nmeetin
 g is to have an atmosphere conducive to research discussion and\ncollabora
 tion. The setting of the meeting is informal to provide a\nfriendly enviro
 nment for students and post-doctoral fellows to present\ntheir results\, t
 o exchange ideas\, and to gain exposure to various\ntopics in combinatoric
 s. It is also a place where students and\nfaculties meet\, which may foste
 r future collaborations. \n\nREGISTRATION\n\nTo register\, click here\n[
 https://www.fields.utoronto.ca/cgi-bin/register?form_selection=combinatori
 cs].
DTSTAMP:20260421T064722Z
END:VEVENT
END:VCALENDAR