BEGIN:VCALENDAR
VERSION:2.0
PRODID:-//Drupal iCal API//EN
X-WR-CALNAME:Events items teaser
X-WR-TIMEZONE:America/Toronto
BEGIN:VTIMEZONE
TZID:America/Toronto
X-LIC-LOCATION:America/Toronto
BEGIN:DAYLIGHT
TZNAME:EDT
TZOFFSETFROM:-0500
TZOFFSETTO:-0400
DTSTART:20220313T070000
END:DAYLIGHT
BEGIN:STANDARD
TZNAME:EST
TZOFFSETFROM:-0400
TZOFFSETTO:-0500
DTSTART:20211107T060000
END:STANDARD
END:VTIMEZONE
BEGIN:VEVENT
UID:69e3fe8eea386
DTSTART;TZID=America/Toronto:20220621T143000
SEQUENCE:0
TRANSP:TRANSPARENT
DTEND;TZID=America/Toronto:20220621T143000
URL:https://uwaterloo.ca/combinatorics-and-optimization/events/graphs-and-m
 atroids-seminar-alvaro-carbonero-gonzales
SUMMARY:Graphs and Matroids Seminar - Alvaro Carbonero Gonzales
CLASS:PUBLIC
DESCRIPTION:TITLE: An into introduction to the chromatic number of digraph\
 n\nSpeaker:\n Alvaro Carbonero Gonzales\n\nAffiliation:\n University of Wa
 terloo\n\nRoom:\n MC 5417\, please contact Shalya Redlin for zoom link\n\n
 ABSTRACT: A proper $k$-coloring of a digraph $D$ is a coloring of the\nver
 tices such that every color class is acyclic\, and the dichromatic\nnumber
  of a digraph $D$ is the minimum number $k$ such that there is a\nproper $
 k$-coloring of $D$. Many questions about the chromatic number\ncan be aske
 d about the dichromatic number\, but as one will quickly\nobserve\, unsusp
 ected complications arise when dealing with digraphs.
DTSTAMP:20260418T215838Z
END:VEVENT
END:VCALENDAR