BEGIN:VCALENDAR
VERSION:2.0
PRODID:-//Drupal iCal API//EN
X-WR-CALNAME:Events items teaser
X-WR-TIMEZONE:America/Toronto
BEGIN:VTIMEZONE
TZID:America/Toronto
X-LIC-LOCATION:America/Toronto
BEGIN:DAYLIGHT
TZNAME:EDT
TZOFFSETFROM:-0500
TZOFFSETTO:-0400
DTSTART:20220313T070000
END:DAYLIGHT
BEGIN:STANDARD
TZNAME:EST
TZOFFSETFROM:-0400
TZOFFSETTO:-0500
DTSTART:20211107T060000
END:STANDARD
END:VTIMEZONE
BEGIN:VEVENT
UID:69e58f6fefc77
DTSTART;TZID=America/Toronto:20220627T113000
SEQUENCE:0
TRANSP:TRANSPARENT
DTEND;TZID=America/Toronto:20220627T113000
URL:https://uwaterloo.ca/combinatorics-and-optimization/events/algebraic-gr
 aph-theory-seminar-karen-meagher-0
SUMMARY:Algebraic Graph Theory Seminar - Karen Meagher
CLASS:PUBLIC
DESCRIPTION:TITLE: A Brief Introduction to World of Erd\\H{o}s-Ko-Rado Theo
 rems\n\nSpeaker:\n Karen Meagher\n\nAffiliation:\n University of Regina\n\
 nZoom:\n Please contact Sabrina Lato for Zoom link\n\nABSTRACT:   The Er
 d\\H{o}s-Ko-Rado (EKR) theorem is a famous result\nthat is one of the corn
 erstones of extremal set theory. This theorem\nanswers the question \"What
  is the largest family of intersecting sets\,\nof a fixed size\, from a ba
 se set?\"
DTSTAMP:20260420T022903Z
END:VEVENT
END:VCALENDAR