BEGIN:VCALENDAR
VERSION:2.0
PRODID:-//Drupal iCal API//EN
X-WR-CALNAME:Events items teaser
X-WR-TIMEZONE:America/Toronto
BEGIN:VTIMEZONE
TZID:America/Toronto
X-LIC-LOCATION:America/Toronto
BEGIN:DAYLIGHT
TZNAME:EDT
TZOFFSETFROM:-0500
TZOFFSETTO:-0400
DTSTART:20220313T070000
END:DAYLIGHT
BEGIN:STANDARD
TZNAME:EST
TZOFFSETFROM:-0400
TZOFFSETTO:-0500
DTSTART:20211107T060000
END:STANDARD
END:VTIMEZONE
BEGIN:VEVENT
UID:69e3edaf2d8f7
DTSTART;TZID=America/Toronto:20220708T130000
SEQUENCE:0
TRANSP:TRANSPARENT
DTEND;TZID=America/Toronto:20220708T130000
URL:https://uwaterloo.ca/combinatorics-and-optimization/events/combinatoria
 l-optimization-reading-group-ricardo-fukasawa
SUMMARY:Combinatorial Optimization Reading Group - Ricardo Fukasawa POSTPON
 ED
CLASS:PUBLIC
DESCRIPTION:TITLE: Stochastic Optimization\n\nSpeaker:\n Ricardo Fukasawa\n
 \nAffiliation:\n University of Waterloo\n\nLocation:\n MC 6029\n\nABSTRACT
 : While deterministic optimization problems are very useful\nin practice\
 , often times the assumption that all data is known in\nadvance does not h
 old true. One possible way to relax this assumption\nis to assume that the
  data depends on random variables. This\nassumption leads to stochastic op
 timization problems.
DTSTAMP:20260418T204639Z
END:VEVENT
END:VCALENDAR