BEGIN:VCALENDAR
VERSION:2.0
PRODID:-//Drupal iCal API//EN
X-WR-CALNAME:Events items teaser
X-WR-TIMEZONE:America/Toronto
BEGIN:VTIMEZONE
TZID:America/Toronto
X-LIC-LOCATION:America/Toronto
BEGIN:DAYLIGHT
TZNAME:EDT
TZOFFSETFROM:-0500
TZOFFSETTO:-0400
DTSTART:20220313T070000
END:DAYLIGHT
BEGIN:STANDARD
TZNAME:EST
TZOFFSETFROM:-0400
TZOFFSETTO:-0500
DTSTART:20211107T060000
END:STANDARD
END:VTIMEZONE
BEGIN:VEVENT
UID:69e58dd779341
DTSTART;TZID=America/Toronto:20220704T113000
SEQUENCE:0
TRANSP:TRANSPARENT
DTEND;TZID=America/Toronto:20220704T113000
URL:https://uwaterloo.ca/combinatorics-and-optimization/events/algebraic-gr
 aph-theory-seminar-dheer-noal
SUMMARY:Algebraic Graph Theory Seminar - Dheer Noal
CLASS:PUBLIC
DESCRIPTION:TITLE: Spectral Turan Problems on trees and even cycles\n\nSpea
 ker:\n Dheer Noal\n\nAffiliation:\n University of Delaware\n\nZoom:\n Plea
 se contact Sabrina Lato for Zoom link\n\nABSTRACT:  In this talk\, we dis
 cuss some recent progress with the\nspectral analogue of a few Turán prob
 lems: Instead of maximizing the\nnumber of edges\, our objective is to max
 imize the spectral radius of\nthe adjacency matrices of graphs not contain
 ing some subgraphs.
DTSTAMP:20260420T022215Z
END:VEVENT
END:VCALENDAR