BEGIN:VCALENDAR
VERSION:2.0
PRODID:-//Drupal iCal API//EN
X-WR-CALNAME:Events items teaser
X-WR-TIMEZONE:America/Toronto
BEGIN:VTIMEZONE
TZID:America/Toronto
X-LIC-LOCATION:America/Toronto
BEGIN:DAYLIGHT
TZNAME:EDT
TZOFFSETFROM:-0500
TZOFFSETTO:-0400
DTSTART:20220313T070000
END:DAYLIGHT
BEGIN:STANDARD
TZNAME:EST
TZOFFSETFROM:-0400
TZOFFSETTO:-0500
DTSTART:20211107T060000
END:STANDARD
END:VTIMEZONE
BEGIN:VEVENT
UID:69e6abae01588
DTSTART;TZID=America/Toronto:20220715T130000
SEQUENCE:0
TRANSP:TRANSPARENT
DTEND;TZID=America/Toronto:20220715T130000
URL:https://uwaterloo.ca/combinatorics-and-optimization/events/combinatoria
 l-optimization-reading-group-ricardo-fukasawa-0
SUMMARY:Combinatorial Optimization Reading Group - Ricardo Fukasawa
CLASS:PUBLIC
DESCRIPTION:TITLE: Stochastic Optimization\n\nSpeaker:\n Ricardo Fukaswaw\n
 \nAffiliation:\n University of Waterloo\n\nLocation\n MC 6029 or please co
 ntact Rian Neogi for Zoom link\n\nAbstract:  While deterministic optimiza
 tion problems are very useful\nin practice\, often times the assumption th
 at all data is known in\nadvance does not hold true. One possible way to r
 elax this assumption\nis to assume that the data depends on random variabl
 es.
DTSTAMP:20260420T224150Z
END:VEVENT
END:VCALENDAR