BEGIN:VCALENDAR
VERSION:2.0
PRODID:-//Drupal iCal API//EN
X-WR-CALNAME:Events items teaser
X-WR-TIMEZONE:America/Toronto
BEGIN:VTIMEZONE
TZID:America/Toronto
X-LIC-LOCATION:America/Toronto
BEGIN:DAYLIGHT
TZNAME:EDT
TZOFFSETFROM:-0500
TZOFFSETTO:-0400
DTSTART:20220313T070000
END:DAYLIGHT
BEGIN:STANDARD
TZNAME:EST
TZOFFSETFROM:-0400
TZOFFSETTO:-0500
DTSTART:20211107T060000
END:STANDARD
END:VTIMEZONE
BEGIN:VEVENT
UID:69e3e3bdf08f9
DTSTART;TZID=America/Toronto:20220722T130000
SEQUENCE:0
TRANSP:TRANSPARENT
DTEND;TZID=America/Toronto:20220722T130000
URL:https://uwaterloo.ca/combinatorics-and-optimization/events/combinatoria
 l-optimization-reading-group-matheus-ota
SUMMARY:Combinatorial Optimization Reading Group - Matheus Ota
CLASS:PUBLIC
DESCRIPTION:TITLE: Data-Driven Chance Constrained Programs over Wasserstein
  Balls\n\nSpeaker:\n Matheus Ota\n\nAffiliation:\n University of Waterloo\
 n\nLocation:\n MC 6029 or contact Rian Neogi for Zoom link\n\nABSTRACT: In
  many real-world applications\, precise problem data is not\navailable to 
 the decision maker. One way to handle this uncertainty is\nby using chance
 -constraints\, where the probability that at least one\nconstraint is viol
 ated is bounded above by some parameter. However\,\nsuch an approach assum
 es that the decision maker has access to the\ntrue probability distributio
 n which governs the data behavior.
DTSTAMP:20260418T200413Z
END:VEVENT
END:VCALENDAR