BEGIN:VCALENDAR
VERSION:2.0
PRODID:-//Drupal iCal API//EN
X-WR-CALNAME:Events items teaser
X-WR-TIMEZONE:America/Toronto
BEGIN:VTIMEZONE
TZID:America/Toronto
X-LIC-LOCATION:America/Toronto
BEGIN:DAYLIGHT
TZNAME:EDT
TZOFFSETFROM:-0500
TZOFFSETTO:-0400
DTSTART:20220313T070000
END:DAYLIGHT
BEGIN:STANDARD
TZNAME:EST
TZOFFSETFROM:-0400
TZOFFSETTO:-0500
DTSTART:20211107T060000
END:STANDARD
END:VTIMEZONE
BEGIN:VEVENT
UID:69e3fe620e220
DTSTART;TZID=America/Toronto:20220829T113000
SEQUENCE:0
TRANSP:TRANSPARENT
DTEND;TZID=America/Toronto:20220829T113000
URL:https://uwaterloo.ca/combinatorics-and-optimization/events/algebraic-gr
 aph-theory-seminar-yufei-zhao
SUMMARY:Algebraic Graph Theory Seminar - Yufei Zhao
CLASS:PUBLIC
DESCRIPTION:Title: Equiangular lines and eigenvalue multiplicities\n\nSpeak
 er:\n Yufei Zhao\n\nAffiliation:\n Massachusetts Institute of Technology\n
 \nLocation:\n please contact Sabrina Lato for Zoom link\n\nAbstract: Solvi
 ng a longstanding problem on equiangular lines\, we\ndetermine\, for each 
 given fixed angle and in all sufficiently large\ndimensions\, the maximum 
 number of lines pairwise separated by the\ngiven angle.
DTSTAMP:20260418T215754Z
END:VEVENT
END:VCALENDAR