BEGIN:VCALENDAR
VERSION:2.0
PRODID:-//Drupal iCal API//EN
X-WR-CALNAME:Events items teaser
X-WR-TIMEZONE:America/Toronto
BEGIN:VTIMEZONE
TZID:America/Toronto
X-LIC-LOCATION:America/Toronto
BEGIN:DAYLIGHT
TZNAME:EDT
TZOFFSETFROM:-0500
TZOFFSETTO:-0400
DTSTART:20220313T070000
END:DAYLIGHT
BEGIN:STANDARD
TZNAME:EST
TZOFFSETFROM:-0400
TZOFFSETTO:-0500
DTSTART:20211107T060000
END:STANDARD
END:VTIMEZONE
BEGIN:VEVENT
UID:69e355accf236
DTSTART;TZID=America/Toronto:20220923T153000
SEQUENCE:0
TRANSP:TRANSPARENT
DTEND;TZID=America/Toronto:20220923T153000
URL:https://uwaterloo.ca/combinatorics-and-optimization/events/tutte-colloq
 uium-levent-tuncel-1
SUMMARY:Tutte Colloquium - Levent Tuncel
CLASS:PUBLIC
DESCRIPTION:TITLE: A perfect graph\, a sparse\, symmetric matrix and a homo
 geneous\ncone walk into a bar … together??\n\nSpeaker:\n Levent Tuncel\n
 \nAffiliation:\n University of Waterloo\n\nLocation:\n MC 5501\n\nAbstract
 :  The talk title above sounds like the beginning of a corny\njoke\; howe
 ver\, in this talk\, we will indeed utilize results from a\nvery large num
 ber of research areas. Many of these research areas are\ndirectly within C
 ombinatorics and Optimization and some are from other\nareas covered in th
 e rest of the Faculty of Mathematics.
DTSTAMP:20260418T095804Z
END:VEVENT
END:VCALENDAR