BEGIN:VCALENDAR
VERSION:2.0
PRODID:-//Drupal iCal API//EN
X-WR-CALNAME:Events items teaser
X-WR-TIMEZONE:America/Toronto
BEGIN:VTIMEZONE
TZID:America/Toronto
X-LIC-LOCATION:America/Toronto
BEGIN:DAYLIGHT
TZNAME:EDT
TZOFFSETFROM:-0500
TZOFFSETTO:-0400
DTSTART:20220313T070000
END:DAYLIGHT
BEGIN:STANDARD
TZNAME:EST
TZOFFSETFROM:-0400
TZOFFSETTO:-0500
DTSTART:20211107T060000
END:STANDARD
END:VTIMEZONE
BEGIN:VEVENT
UID:69e3d68e61232
DTSTART;TZID=America/Toronto:20220926T113000
SEQUENCE:0
TRANSP:TRANSPARENT
DTEND;TZID=America/Toronto:20220926T113000
URL:https://uwaterloo.ca/combinatorics-and-optimization/events/algebraic-gr
 aph-theory-seminar-dave-witte-morris
SUMMARY:Algebraic Graph Theory Seminar - Dave Witte Morris
CLASS:PUBLIC
DESCRIPTION:TITLE: Automorphisms of direct products of some circulant graph
 s\n\nSpeaker:\n Dave Witte Morris\n\nAffiliation:\n University of Lethbrid
 ge\n\nLocation:\n contact Sabrina Lato for Zoom link\n\nABSTRACT: The dire
 ct product of two graphs X and Y is denoted X x Y.\nIts automorphism group
  contains a copy of the direct product of Aut(X)\nand Aut(Y)\, but it is n
 ot known when this inclusion is an equality\,\neven for the special case w
 here X is a circulant graph and Y = K_2 is\na connected graph with only 2 
 vertices.
DTSTAMP:20260418T190758Z
END:VEVENT
END:VCALENDAR