BEGIN:VCALENDAR
VERSION:2.0
PRODID:-//Drupal iCal API//EN
X-WR-CALNAME:Events items teaser
X-WR-TIMEZONE:America/Toronto
BEGIN:VTIMEZONE
TZID:America/Toronto
X-LIC-LOCATION:America/Toronto
BEGIN:DAYLIGHT
TZNAME:EDT
TZOFFSETFROM:-0500
TZOFFSETTO:-0400
DTSTART:20220313T070000
END:DAYLIGHT
BEGIN:STANDARD
TZNAME:EST
TZOFFSETFROM:-0400
TZOFFSETTO:-0500
DTSTART:20211107T060000
END:STANDARD
END:VTIMEZONE
BEGIN:VEVENT
UID:69e3e652b7d31
DTSTART;TZID=America/Toronto:20220930T120000
SEQUENCE:0
TRANSP:TRANSPARENT
DTEND;TZID=America/Toronto:20220930T120000
URL:https://uwaterloo.ca/combinatorics-and-optimization/events/combinatoria
 l-optimization-reading-group-david-kalichman-0
SUMMARY:Combinatorial Optimization Reading Group - David Kalichman
CLASS:PUBLIC
DESCRIPTION:TITLE: Stochastic Probing with Applications\n\nSpeaker:\n David
  Kalichman\n\nAffiliation:\n University of Waterloo\n\nLocation:\n MC 6029
  or contact Rian Neogi for the Zoom link\n\nABSTRACT: We will explore a st
 ochastic probing problem. Given a set of\nelements which have weights and 
 independent probabilities of being\n\"active\,\" the goal is to construct 
 a subset of active elements of\nmaximum weight. To form such a set\, we mu
 st \"probe\" elements\nsequentially to determine whether they are active.
DTSTAMP:20260418T201514Z
END:VEVENT
END:VCALENDAR