BEGIN:VCALENDAR
VERSION:2.0
PRODID:-//Drupal iCal API//EN
X-WR-CALNAME:Events items teaser
X-WR-TIMEZONE:America/Toronto
BEGIN:VTIMEZONE
TZID:America/Toronto
X-LIC-LOCATION:America/Toronto
BEGIN:DAYLIGHT
TZNAME:EDT
TZOFFSETFROM:-0500
TZOFFSETTO:-0400
DTSTART:20220313T070000
END:DAYLIGHT
BEGIN:STANDARD
TZNAME:EST
TZOFFSETFROM:-0400
TZOFFSETTO:-0500
DTSTART:20211107T060000
END:STANDARD
END:VTIMEZONE
BEGIN:VEVENT
UID:69e56f588ad18
DTSTART;TZID=America/Toronto:20221007T120000
SEQUENCE:0
TRANSP:TRANSPARENT
DTEND;TZID=America/Toronto:20221007T120000
URL:https://uwaterloo.ca/combinatorics-and-optimization/events/combinatoria
 l-optimization-reading-group-paul-lawrence-0
SUMMARY:Combinatorial Optimization Reading Group - Paul Lawrence
CLASS:PUBLIC
DESCRIPTION:TITLE: On the Adaptivity Gap of Stochastic Orienteering\n\nSpea
 ker:\n Paul Lawrence\n\nAffiliation:\n University of Waterloo\n\nLocation:
 \n MC 6029 or contact Rian Neogi for the Zoom link\n\nABSTRACT: This talk 
 highlights the _stochastic\norienteering_ problem\, in which we are give
 n a budget B and a graph\nG=(V\,E) with edge distances _d(u\,v) _and a s
 tarting\nvertex _x._ Each vertex _v_ represents a job with a determini
 stic\nreward and a random processing time\, drawn from a known distributio
 n.
DTSTAMP:20260420T001208Z
END:VEVENT
END:VCALENDAR