BEGIN:VCALENDAR
VERSION:2.0
PRODID:-//Drupal iCal API//EN
X-WR-CALNAME:Events items teaser
X-WR-TIMEZONE:America/Toronto
BEGIN:VTIMEZONE
TZID:America/Toronto
X-LIC-LOCATION:America/Toronto
BEGIN:DAYLIGHT
TZNAME:EDT
TZOFFSETFROM:-0500
TZOFFSETTO:-0400
DTSTART:20220313T070000
END:DAYLIGHT
BEGIN:STANDARD
TZNAME:EST
TZOFFSETFROM:-0400
TZOFFSETTO:-0500
DTSTART:20211107T060000
END:STANDARD
END:VTIMEZONE
BEGIN:VEVENT
UID:69e58f6f76c0d
DTSTART;TZID=America/Toronto:20221003T113000
SEQUENCE:0
TRANSP:TRANSPARENT
DTEND;TZID=America/Toronto:20221003T113000
URL:https://uwaterloo.ca/combinatorics-and-optimization/events/algebraic-gr
 aph-theory-seminar-nathan-lindzey-5
SUMMARY:Algebraic Graph Theory Seminar - Nathan Lindzey
CLASS:PUBLIC
DESCRIPTION:Title: Jack Derangements\n\nSpeaker:\n Nathan Lindzey\n\nAffili
 ation:\n Technion\n\nLocation:\n Contact  Sabrina Lato for Zoom link\n\nA
 bstract: For each integer partition $\\lambda \\vdash n$ we give a\nsimple
  combinatorial formula for the sum of the Jack character\n$\\theta^\\lambd
 a_\\alpha$ over the integer partitions of $n$ with no\nsingleton parts. Fo
 r $\\alpha = 1\,2$ this gives closed forms for the\neigenvalues of the per
 mutation and perfect matching derangement\ngraphs\, resolving an open ques
 tion in algebraic graph theory. Our\nproofs center around a Jack analogue 
 of a hook product related to\nCayley's $\\Omega$--process in classical inv
 ariant theory\, which we\ncall \\emph{the principal lower hook product}.
DTSTAMP:20260420T022903Z
END:VEVENT
END:VCALENDAR