BEGIN:VCALENDAR
VERSION:2.0
PRODID:-//Drupal iCal API//EN
X-WR-CALNAME:Events items teaser
X-WR-TIMEZONE:America/Toronto
BEGIN:VTIMEZONE
TZID:America/Toronto
X-LIC-LOCATION:America/Toronto
BEGIN:DAYLIGHT
TZNAME:EDT
TZOFFSETFROM:-0500
TZOFFSETTO:-0400
DTSTART:20220313T070000
END:DAYLIGHT
BEGIN:STANDARD
TZNAME:EST
TZOFFSETFROM:-0400
TZOFFSETTO:-0500
DTSTART:20211107T060000
END:STANDARD
END:VTIMEZONE
BEGIN:VEVENT
UID:69e6aba8e55de
DTSTART;TZID=America/Toronto:20221017T113000
SEQUENCE:0
TRANSP:TRANSPARENT
DTEND;TZID=America/Toronto:20221017T113000
URL:https://uwaterloo.ca/combinatorics-and-optimization/events/algebraic-gr
 aph-theory-seminar-harmony-zhan-4
SUMMARY:Algebraic Graph Theory Seminar - Harmony Zhan
CLASS:PUBLIC
DESCRIPTION:TITLE: An introduction to discrete quantum walks\n\nSpeaker:\n 
 Harmony Zhan\n\nAffiliation:\n Simon Fraser University\n\nLocation:\n plea
 se contact Sabrina Lato for Zoom link\n\nABSTRACT: A discrete quantum walk
  is determined by a unitary matrix\nrepresentation of a graph. In this tal
 k\, I will give an overview of\ndifferent quantum walks\, and show how the
  spectral information of the\nunitary matrix representation links properti
 es of the walks to\nproperties of the graphs. Part of this talk will be ba
 sed on the book\,\nDiscrete Quantum Walks on Graphs and Digraphs\, by Chri
 s and me.
DTSTAMP:20260420T224144Z
END:VEVENT
END:VCALENDAR