BEGIN:VCALENDAR
VERSION:2.0
PRODID:-//Drupal iCal API//EN
X-WR-CALNAME:Events items teaser
X-WR-TIMEZONE:America/Toronto
BEGIN:VTIMEZONE
TZID:America/Toronto
X-LIC-LOCATION:America/Toronto
BEGIN:DAYLIGHT
TZNAME:EDT
TZOFFSETFROM:-0500
TZOFFSETTO:-0400
DTSTART:20220313T070000
END:DAYLIGHT
BEGIN:STANDARD
TZNAME:EST
TZOFFSETFROM:-0400
TZOFFSETTO:-0500
DTSTART:20211107T060000
END:STANDARD
END:VTIMEZONE
BEGIN:VEVENT
UID:69e3715a9d3d5
DTSTART;TZID=America/Toronto:20221028T153000
SEQUENCE:0
TRANSP:TRANSPARENT
DTEND;TZID=America/Toronto:20221028T153000
URL:https://uwaterloo.ca/combinatorics-and-optimization/events/tutte-colloq
 uium-jonathan-eckstein
SUMMARY:Tutte Colloquium - Jonathan Eckstein
CLASS:PUBLIC
DESCRIPTION:TITLE: The ADMM:  Past\, Present\, and Future\n\nSpeaker:\n Jo
 nathan Eckstein\n\nAffiliation:\n Rutgers University\n\nLocation:\n MC 550
 1 or contact Melissa Cambrdige for Zoom link\n\nABSTRACT: Over the past 15
  years\, the alternating direction method of\nmultipliers (ADMM) has becom
 e a standard optimization method.  This\ntalk will cover the origins of t
 he ADMM\, its subsequent development\,\nand what to expect in the future.
DTSTAMP:20260418T115610Z
END:VEVENT
END:VCALENDAR