BEGIN:VCALENDAR
VERSION:2.0
PRODID:-//Drupal iCal API//EN
X-WR-CALNAME:Events items teaser
X-WR-TIMEZONE:America/Toronto
BEGIN:VTIMEZONE
TZID:America/Toronto
X-LIC-LOCATION:America/Toronto
BEGIN:DAYLIGHT
TZNAME:EDT
TZOFFSETFROM:-0500
TZOFFSETTO:-0400
DTSTART:20220313T070000
END:DAYLIGHT
BEGIN:STANDARD
TZNAME:EST
TZOFFSETFROM:-0400
TZOFFSETTO:-0500
DTSTART:20211107T060000
END:STANDARD
END:VTIMEZONE
BEGIN:VEVENT
UID:69e3d39f24dfc
DTSTART;TZID=America/Toronto:20221027T130000
SEQUENCE:0
TRANSP:TRANSPARENT
DTEND;TZID=America/Toronto:20221027T130000
URL:https://uwaterloo.ca/combinatorics-and-optimization/events/algebraic-co
 mbinatorics-seminar-anna-pun
SUMMARY:Algebraic Combinatorics Seminar - Anna Pun
CLASS:PUBLIC
DESCRIPTION:Title: A raising operator formula for Macdonald polynomials\n\n
 Speaker:\n Anna Pun\n\nAffiliation:\n CUNY- Baruch College\n\nLocation:\n 
 MC 5479 or contact Olya Mandelshtam for Zoom\n\nAbstract: In this talk\, I
  will give a brief introduction on\nCatalanimal\, a tool that helps us to 
 prove the shuffle theorem under\nany line\, the extended delta conjecture 
 and the Loehr- Warrington\nconjecture. I will then focus on its variant \"
 Macanimal\" which gives\nus an explicit raising operator formula for the m
 odified Macdonald\npolynomials. Our method just as easily yields a formul
 a for an\ninfinite series of $GL_l$ characters which truncates to the modi
 fied\nMacdonald polynomials.
DTSTAMP:20260418T185527Z
END:VEVENT
END:VCALENDAR