BEGIN:VCALENDAR
VERSION:2.0
PRODID:-//Drupal iCal API//EN
X-WR-CALNAME:Events items teaser
X-WR-TIMEZONE:America/Toronto
BEGIN:VTIMEZONE
TZID:America/Toronto
X-LIC-LOCATION:America/Toronto
BEGIN:DAYLIGHT
TZNAME:EDT
TZOFFSETFROM:-0500
TZOFFSETTO:-0400
DTSTART:20220313T070000
END:DAYLIGHT
BEGIN:STANDARD
TZNAME:EST
TZOFFSETFROM:-0400
TZOFFSETTO:-0500
DTSTART:20211107T060000
END:STANDARD
END:VTIMEZONE
BEGIN:VEVENT
UID:69e3fcb46799a
DTSTART;TZID=America/Toronto:20221028T120000
SEQUENCE:0
TRANSP:TRANSPARENT
DTEND;TZID=America/Toronto:20221028T120000
URL:https://uwaterloo.ca/combinatorics-and-optimization/events/combinatoria
 l-optimization-reading-group-sharat-ibrahimpur-3
SUMMARY:Combinatorial Optimization Reading Group - Sharat Ibrahimpur
CLASS:PUBLIC
DESCRIPTION:Title: Stochastic Minimum Norm Combinatorial Optimization\n\nSp
 eaker:\n Sharat Ibrahimpur\n\nAffiliation:\n  \n\nLocation:\n MC 6029 or 
 contact Rian Neogi for Zoom link\n\nAbstract: In this work\, we introduce 
 and study stochastic minimum-norm\noptimization. We have an underlying com
 binatorial optimization problem\nwhere the costs involved are random varia
 bles with given\ndistributions\; each feasible solution induces a random\n
 multidimensional cost vector. The goal is to find a solution that\nminimiz
 es the expected norm of the induced cost vector\, for a given\nmonotone\, 
 symmetric norm.
DTSTAMP:20260418T215044Z
END:VEVENT
END:VCALENDAR