BEGIN:VCALENDAR
VERSION:2.0
PRODID:-//Drupal iCal API//EN
X-WR-CALNAME:Events items teaser
X-WR-TIMEZONE:America/Toronto
BEGIN:VTIMEZONE
TZID:America/Toronto
X-LIC-LOCATION:America/Toronto
BEGIN:DAYLIGHT
TZNAME:EDT
TZOFFSETFROM:-0500
TZOFFSETTO:-0400
DTSTART:20220313T070000
END:DAYLIGHT
BEGIN:STANDARD
TZNAME:EST
TZOFFSETFROM:-0400
TZOFFSETTO:-0500
DTSTART:20211107T060000
END:STANDARD
END:VTIMEZONE
BEGIN:VEVENT
UID:69e3fccf44f30
DTSTART;TZID=America/Toronto:20221031T233000
SEQUENCE:0
TRANSP:TRANSPARENT
DTEND;TZID=America/Toronto:20221031T233000
URL:https://uwaterloo.ca/combinatorics-and-optimization/events/algebraic-gr
 aph-theory-seminar-ingemar-bengtsson
SUMMARY:Algebraic Graph Theory Seminar - Ingemar Bengtsson
CLASS:PUBLIC
DESCRIPTION:TITLE: Equiangular lines and algebraic number theory\n\nSpeaker
 :\n Ingemar Bengtsson\n\nAffiliation:\n Stockholm University\n\nLocation:\
 n contact Sabrina Lato for Zoom link\n\nABSTRACT: It is believed that SICs
 \, that is maximal equiangular tight\nframes\, exist in all complex vector
  spaces. To construct them we use\nthe Weyl-Heisenberg groups\, and hence 
 the cyclotomic numbers (roots of\nunity).
DTSTAMP:20260418T215111Z
END:VEVENT
END:VCALENDAR