BEGIN:VCALENDAR
VERSION:2.0
PRODID:-//Drupal iCal API//EN
X-WR-CALNAME:Events items teaser
X-WR-TIMEZONE:America/Toronto
BEGIN:VTIMEZONE
TZID:America/Toronto
X-LIC-LOCATION:America/Toronto
BEGIN:DAYLIGHT
TZNAME:EDT
TZOFFSETFROM:-0500
TZOFFSETTO:-0400
DTSTART:20220313T070000
END:DAYLIGHT
BEGIN:STANDARD
TZNAME:EST
TZOFFSETFROM:-0400
TZOFFSETTO:-0500
DTSTART:20211107T060000
END:STANDARD
END:VTIMEZONE
BEGIN:VEVENT
UID:69e3d39e29b7a
DTSTART;TZID=America/Toronto:20221031T150000
SEQUENCE:0
TRANSP:TRANSPARENT
DTEND;TZID=America/Toronto:20221031T150000
URL:https://uwaterloo.ca/combinatorics-and-optimization/events/graph-and-ma
 troids-seminar-fernanda-rivera
SUMMARY:Graph and Matroids Seminar - Fernanda Rivera
CLASS:PUBLIC
DESCRIPTION:TITLE: Cliques in dense matroids\n\nSpeaker:\n Fernanda Rivera\
 n\nAffiliation:\n University of Waterloo\n\nLocation:\n MC 6029\n\nABSTRAC
 T: We will give a singly exponential bound on the number of\npoints a $U_{
 2\,q+2}$-minor-free matroid can have without containing\n$M(K_{q+2})$ as a
  minor.
DTSTAMP:20260418T185526Z
END:VEVENT
END:VCALENDAR