BEGIN:VCALENDAR
VERSION:2.0
PRODID:-//Drupal iCal API//EN
X-WR-CALNAME:Events items teaser
X-WR-TIMEZONE:America/Toronto
BEGIN:VTIMEZONE
TZID:America/Toronto
X-LIC-LOCATION:America/Toronto
BEGIN:DAYLIGHT
TZNAME:EDT
TZOFFSETFROM:-0500
TZOFFSETTO:-0400
DTSTART:20220313T070000
END:DAYLIGHT
BEGIN:STANDARD
TZNAME:EST
TZOFFSETFROM:-0400
TZOFFSETTO:-0500
DTSTART:20221106T060000
END:STANDARD
END:VTIMEZONE
BEGIN:VEVENT
UID:69e28b5c2c53e
DTSTART;TZID=America/Toronto:20221110T130000
SEQUENCE:0
TRANSP:TRANSPARENT
DTEND;TZID=America/Toronto:20221110T130000
URL:https://uwaterloo.ca/combinatorics-and-optimization/events/algebraic-co
 mbinatorics-seminar-theo-douvropoulos
SUMMARY:Algebraic Combinatorics Seminar - Theo Douvropoulos
CLASS:PUBLIC
DESCRIPTION:TITLE: Recursions and Proofs in Coxeter-Catalan combinatorics\n
 \nSpeaker:\n Theo Douvropoulos\n\nAffiliations:\n U Mass Amherst\n\nLocati
 on:\n MC 5479 or contact Olya Mandelshtam for Zoom link\n\nABSTRACT:  The
  collection of parking functions under a natural\nSn-action (which has Cat
 alan-many orbits) has been a central object in\nAlgebraic Combinatorics si
 nce the work of Haiman more than 30 years\nago. One of the lines of resear
 ch spawned around it was towards\ndefining and studying analogous objects 
 for real and complex\nreflection groups W\; the main candidates are known 
 as the\nW-non-nesting and W-non-crossing parking functions.
DTSTAMP:20260417T193452Z
END:VEVENT
END:VCALENDAR